BEGIN:VCALENDAR
VERSION:2.0
PRODID:-//NetAuktion//NONSGML NetAuktion//SV
METHOD:PUBLISH
BEGIN:VEVENT
UID:20260425T134347-986799549-netauktion.se
DTSTAMP:20260425T134347
DTSTART:20160915T040200
DTEND:20160915T040500
SUMMARY:Netauktion objekt 2590-151 Auktionspåminnelse
DESCRIPTION:Länk till objektet du var intresserad av: https://staging.netauktion.se/auktion/produkt/eleganta-boots-strl-24-2
END:VEVENT
END:VCALENDAR
