BEGIN:VCALENDAR
VERSION:2.0
PRODID:-//NetAuktion//NONSGML NetAuktion//SV
METHOD:PUBLISH
BEGIN:VEVENT
UID:20260425T131937-1204874539-netauktion.se
DTSTAMP:20260425T131937
DTSTART:20160915T040300
DTEND:20160915T040600
SUMMARY:Netauktion objekt 2590-155 Auktionspåminnelse
DESCRIPTION:Länk till objektet du var intresserad av: https://staging.netauktion.se/auktion/produkt/eleganta-boots-strl-23-2
END:VEVENT
END:VCALENDAR
