BEGIN:VCALENDAR
VERSION:2.0
PRODID:-//NetAuktion//NONSGML NetAuktion//SV
METHOD:PUBLISH
BEGIN:VEVENT
UID:20260425T134423-2129426871-netauktion.se
DTSTAMP:20260425T134423
DTSTART:20160915T040600
DTEND:20160915T040900
SUMMARY:Netauktion objekt 2590-162 Auktionspåminnelse
DESCRIPTION:Länk till objektet du var intresserad av: https://staging.netauktion.se/auktion/produkt/eleganta-boots-strl-32-4
END:VEVENT
END:VCALENDAR
