BEGIN:VCALENDAR
VERSION:2.0
PRODID:-//NetAuktion//NONSGML NetAuktion//SV
METHOD:PUBLISH
BEGIN:VEVENT
UID:20260425T134423-561689172-netauktion.se
DTSTAMP:20260425T134423
DTSTART:20160915T040700
DTEND:20160915T041000
SUMMARY:Netauktion objekt 2590-164 Auktionspåminnelse
DESCRIPTION:Länk till objektet du var intresserad av: https://staging.netauktion.se/auktion/produkt/eleganta-boots-strl-33-5
END:VEVENT
END:VCALENDAR
