BEGIN:VCALENDAR
VERSION:2.0
PRODID:-//NetAuktion//NONSGML NetAuktion//SV
METHOD:PUBLISH
BEGIN:VEVENT
UID:20260421T104255-1278971745-netauktion.se
DTSTAMP:20260421T104255
DTSTART:20080731T010000
DTEND:20080731T010300
SUMMARY:Netauktion objekt 0037-004 Auktionspåminnelse
DESCRIPTION:Länk till objektet du var intresserad av: https://staging.netauktion.se/auktion/produkt/verktyg-dewalt-tigersag-mutterdragare-mm
END:VEVENT
END:VCALENDAR
