BEGIN:VCALENDAR
VERSION:2.0
PRODID:-//NetAuktion//NONSGML NetAuktion//SV
METHOD:PUBLISH
BEGIN:VEVENT
UID:20260425T134700-860363592-netauktion.se
DTSTAMP:20260425T134700
DTSTART:20160718T034000
DTEND:20160718T034300
SUMMARY:Netauktion objekt 2091-025 Auktionspåminnelse
DESCRIPTION:Länk till objektet du var intresserad av: https://staging.netauktion.se/auktion/produkt/11st-assietter-rosenthal
END:VEVENT
END:VCALENDAR
