BEGIN:VCALENDAR
VERSION:2.0
PRODID:-//NetAuktion//NONSGML NetAuktion//SV
METHOD:PUBLISH
BEGIN:VEVENT
UID:20260421T104429-1845116878-netauktion.se
DTSTAMP:20260421T104429
DTSTART:20160530T021300
DTEND:20160530T021600
SUMMARY:Netauktion objekt 2091-027 Auktionspåminnelse
DESCRIPTION:Länk till objektet du var intresserad av: https://staging.netauktion.se/auktion/produkt/10-delar-porslin-royal-doulton
END:VEVENT
END:VCALENDAR
