BEGIN:VCALENDAR
VERSION:2.0
PRODID:-//NetAuktion//NONSGML NetAuktion//SV
METHOD:PUBLISH
BEGIN:VEVENT
UID:20260425T130658-656579285-netauktion.se
DTSTAMP:20260425T130658
DTSTART:20160718T033400
DTEND:20160718T033700
SUMMARY:Netauktion objekt 2091-031 Auktionspåminnelse
DESCRIPTION:Länk till objektet du var intresserad av: https://staging.netauktion.se/auktion/produkt/14-delar-glas-kosta-boda
END:VEVENT
END:VCALENDAR
