BEGIN:VCALENDAR
VERSION:2.0
PRODID:-//NetAuktion//NONSGML NetAuktion//SV
METHOD:PUBLISH
BEGIN:VEVENT
UID:20260421T102804-1005918499-netauktion.se
DTSTAMP:20260421T102804
DTSTART:20160530T015900
DTEND:20160530T020200
SUMMARY:Netauktion objekt 2091-039 Auktionspåminnelse
DESCRIPTION:Länk till objektet du var intresserad av: https://staging.netauktion.se/auktion/produkt/bocker-serietidningar
END:VEVENT
END:VCALENDAR
