BEGIN:VCALENDAR
VERSION:2.0
PRODID:-//NetAuktion//NONSGML NetAuktion//SV
METHOD:PUBLISH
BEGIN:VEVENT
UID:20260421T103005-654106213-netauktion.se
DTSTAMP:20260421T103005
DTSTART:20160530T015700
DTEND:20160530T020000
SUMMARY:Netauktion objekt 2091-043 Auktionspåminnelse
DESCRIPTION:Länk till objektet du var intresserad av: https://staging.netauktion.se/auktion/produkt/symaskin-med-tillbehor-singer
END:VEVENT
END:VCALENDAR
