BEGIN:VCALENDAR
VERSION:2.0
PRODID:-//NetAuktion//NONSGML NetAuktion//SV
METHOD:PUBLISH
BEGIN:VEVENT
UID:20260425T135428-231000208-netauktion.se
DTSTAMP:20260425T135428
DTSTART:20160718T033100
DTEND:20160718T033400
SUMMARY:Netauktion objekt 2091-046 Auktionspåminnelse
DESCRIPTION:Länk till objektet du var intresserad av: https://staging.netauktion.se/auktion/produkt/blandat-dekorativt-unor-koppar-mm
END:VEVENT
END:VCALENDAR
