BEGIN:VCALENDAR
VERSION:2.0
PRODID:-//NetAuktion//NONSGML NetAuktion//SV
METHOD:PUBLISH
BEGIN:VEVENT
UID:20260421T104442-889624425-netauktion.se
DTSTAMP:20260421T104442
DTSTART:20160530T014700
DTEND:20160530T015000
SUMMARY:Netauktion objekt 2091-051 Auktionspåminnelse
DESCRIPTION:Länk till objektet du var intresserad av: https://staging.netauktion.se/auktion/produkt/parti-bestick-i-nysilver
END:VEVENT
END:VCALENDAR
