BEGIN:VCALENDAR
VERSION:2.0
PRODID:-//NetAuktion//NONSGML NetAuktion//SV
METHOD:PUBLISH
BEGIN:VEVENT
UID:20260425T134700-1668414672-netauktion.se
DTSTAMP:20260425T134700
DTSTART:20160718T033900
DTEND:20160718T034200
SUMMARY:Netauktion objekt 2091-052 Auktionspåminnelse
DESCRIPTION:Länk till objektet du var intresserad av: https://staging.netauktion.se/auktion/produkt/designad-skal-c-a-l
END:VEVENT
END:VCALENDAR
