BEGIN:VCALENDAR
VERSION:2.0
PRODID:-//NetAuktion//NONSGML NetAuktion//SV
METHOD:PUBLISH
BEGIN:VEVENT
UID:20260421T104451-1474361383-netauktion.se
DTSTAMP:20260421T104451
DTSTART:20090831T030700
DTEND:20090831T031000
SUMMARY:Netauktion objekt 0241-179 Auktionspåminnelse
DESCRIPTION:Länk till objektet du var intresserad av: https://staging.netauktion.se/auktion/produkt/nya-killshorts-strl-sxl-varde-3200-kr
END:VEVENT
END:VCALENDAR
