BEGIN:VCALENDAR
VERSION:2.0
PRODID:-//NetAuktion//NONSGML NetAuktion//SV
METHOD:PUBLISH
BEGIN:VEVENT
UID:20260421T104615-160390716-netauktion.se
DTSTAMP:20260421T104615
DTSTART:20170531T014700
DTEND:20170531T015000
SUMMARY:Netauktion objekt 2646-029 Auktionspåminnelse
DESCRIPTION:Länk till objektet du var intresserad av: https://staging.netauktion.se/auktion/produkt/ogondusch-120-flaskor-9
END:VEVENT
END:VCALENDAR
