BEGIN:VCALENDAR
VERSION:2.0
PRODID:-//NetAuktion//NONSGML NetAuktion//SV
METHOD:PUBLISH
BEGIN:VEVENT
UID:20260425T135428-1926941635-netauktion.se
DTSTAMP:20260425T135428
DTSTART:20160915T042400
DTEND:20160915T042700
SUMMARY:Netauktion objekt 2529-006 Auktionspåminnelse
DESCRIPTION:Länk till objektet du var intresserad av: https://staging.netauktion.se/auktion/produkt/12st-skjortor-gv-royal-l-5
END:VEVENT
END:VCALENDAR
