BEGIN:VCALENDAR
VERSION:2.0
PRODID:-//NetAuktion//NONSGML NetAuktion//SV
METHOD:PUBLISH
BEGIN:VEVENT
UID:20260421T103138-438650885-netauktion.se
DTSTAMP:20260421T103138
DTSTART:20160630T010200
DTEND:20160630T010500
SUMMARY:Netauktion objekt 2643-003 Auktionspåminnelse
DESCRIPTION:Länk till objektet du var intresserad av: https://staging.netauktion.se/auktion/produkt/stegpall-2
END:VEVENT
END:VCALENDAR
