BEGIN:VCALENDAR
VERSION:2.0
PRODID:-//NetAuktion//NONSGML NetAuktion//SV
METHOD:PUBLISH
BEGIN:VEVENT
UID:20260421T104603-16935720-netauktion.se
DTSTAMP:20260421T104603
DTSTART:20160630T011000
DTEND:20160630T011300
SUMMARY:Netauktion objekt 2643-010 Auktionspåminnelse
DESCRIPTION:Länk till objektet du var intresserad av: https://staging.netauktion.se/auktion/produkt/gokur-och-prydnadsforemal
END:VEVENT
END:VCALENDAR
