BEGIN:VCALENDAR
VERSION:2.0
PRODID:-//NetAuktion//NONSGML NetAuktion//SV
METHOD:PUBLISH
BEGIN:VEVENT
UID:20260425T122631-403787898-netauktion.se
DTSTAMP:20260425T122631
DTSTART:20160915T042100
DTEND:20160915T042400
SUMMARY:Netauktion objekt 2529-014 Auktionspåminnelse
DESCRIPTION:Länk till objektet du var intresserad av: https://staging.netauktion.se/auktion/produkt/18st-skjortor-gv-royal-4142
END:VEVENT
END:VCALENDAR
