BEGIN:VCALENDAR
VERSION:2.0
PRODID:-//NetAuktion//NONSGML NetAuktion//SV
METHOD:PUBLISH
BEGIN:VEVENT
UID:20260425T123500-1232763473-netauktion.se
DTSTAMP:20260425T123500
DTSTART:20160915T042100
DTEND:20160915T042400
SUMMARY:Netauktion objekt 2529-016 Auktionspåminnelse
DESCRIPTION:Länk till objektet du var intresserad av: https://staging.netauktion.se/auktion/produkt/15st-skjortor-gv-royal-4142-2
END:VEVENT
END:VCALENDAR
