BEGIN:VCALENDAR
VERSION:2.0
PRODID:-//NetAuktion//NONSGML NetAuktion//SV
METHOD:PUBLISH
BEGIN:VEVENT
UID:20260425T135428-297969865-netauktion.se
DTSTAMP:20260425T135428
DTSTART:20160915T042500
DTEND:20160915T042800
SUMMARY:Netauktion objekt 2529-017 Auktionspåminnelse
DESCRIPTION:Länk till objektet du var intresserad av: https://staging.netauktion.se/auktion/produkt/15st-skjortor-gv-royal-4142-3
END:VEVENT
END:VCALENDAR
