BEGIN:VCALENDAR
VERSION:2.0
PRODID:-//NetAuktion//NONSGML NetAuktion//SV
METHOD:PUBLISH
BEGIN:VEVENT
UID:20260425T123459-2115168732-netauktion.se
DTSTAMP:20260425T123459
DTSTART:20160915T041800
DTEND:20160915T042100
SUMMARY:Netauktion objekt 2529-018 Auktionspåminnelse
DESCRIPTION:Länk till objektet du var intresserad av: https://staging.netauktion.se/auktion/produkt/15st-skjortor-gv-royal-4142-4
END:VEVENT
END:VCALENDAR
