BEGIN:VCALENDAR
VERSION:2.0
PRODID:-//NetAuktion//NONSGML NetAuktion//SV
METHOD:PUBLISH
BEGIN:VEVENT
UID:20260425T135428-674363107-netauktion.se
DTSTAMP:20260425T135428
DTSTART:20160915T041700
DTEND:20160915T042000
SUMMARY:Netauktion objekt 2529-019 Auktionspåminnelse
DESCRIPTION:Länk till objektet du var intresserad av: https://staging.netauktion.se/auktion/produkt/15st-skjortor-gv-royal-4142-5
END:VEVENT
END:VCALENDAR
