BEGIN:VCALENDAR
VERSION:2.0
PRODID:-//NetAuktion//NONSGML NetAuktion//SV
METHOD:PUBLISH
BEGIN:VEVENT
UID:20260425T122744-1023509356-netauktion.se
DTSTAMP:20260425T122744
DTSTART:20160915T042300
DTEND:20160915T042600
SUMMARY:Netauktion objekt 2529-024 Auktionspåminnelse
DESCRIPTION:Länk till objektet du var intresserad av: https://staging.netauktion.se/auktion/produkt/15st-skjortor-gv-royal-4344-2
END:VEVENT
END:VCALENDAR
