BEGIN:VCALENDAR
VERSION:2.0
PRODID:-//NetAuktion//NONSGML NetAuktion//SV
METHOD:PUBLISH
BEGIN:VEVENT
UID:20260425T123459-1173972060-netauktion.se
DTSTAMP:20260425T123459
DTSTART:20160915T042700
DTEND:20160915T043000
SUMMARY:Netauktion objekt 2529-025 Auktionspåminnelse
DESCRIPTION:Länk till objektet du var intresserad av: https://staging.netauktion.se/auktion/produkt/15st-skjortor-gv-royal-4344-3
END:VEVENT
END:VCALENDAR
