BEGIN:VCALENDAR
VERSION:2.0
PRODID:-//NetAuktion//NONSGML NetAuktion//SV
METHOD:PUBLISH
BEGIN:VEVENT
UID:20260421T104616-788749633-netauktion.se
DTSTAMP:20260421T104616
DTSTART:20161031T145700
DTEND:20161031T150000
SUMMARY:Netauktion objekt 2643-025 Auktionspåminnelse
DESCRIPTION:Länk till objektet du var intresserad av: https://staging.netauktion.se/auktion/produkt/prydnadsforemal-i-metall-och-porslin
END:VEVENT
END:VCALENDAR
