BEGIN:VCALENDAR
VERSION:2.0
PRODID:-//NetAuktion//NONSGML NetAuktion//SV
METHOD:PUBLISH
BEGIN:VEVENT
UID:20260421T104615-435195206-netauktion.se
DTSTAMP:20260421T104615
DTSTART:20160630T014100
DTEND:20160630T014400
SUMMARY:Netauktion objekt 2643-040 Auktionspåminnelse
DESCRIPTION:Länk till objektet du var intresserad av: https://staging.netauktion.se/auktion/produkt/oljemalning-johan-arvall-landskap
END:VEVENT
END:VCALENDAR
