BEGIN:VCALENDAR
VERSION:2.0
PRODID:-//NetAuktion//NONSGML NetAuktion//SV
METHOD:PUBLISH
BEGIN:VEVENT
UID:20260421T103129-927397926-netauktion.se
DTSTAMP:20260421T103129
DTSTART:20160630T015200
DTEND:20160630T015500
SUMMARY:Netauktion objekt 2643-053 Auktionspåminnelse
DESCRIPTION:Länk till objektet du var intresserad av: https://staging.netauktion.se/auktion/produkt/matgrupp-med-4st-stolar
END:VEVENT
END:VCALENDAR
