BEGIN:VCALENDAR
VERSION:2.0
PRODID:-//NetAuktion//NONSGML NetAuktion//SV
METHOD:PUBLISH
BEGIN:VEVENT
UID:20260421T104618-1442730231-netauktion.se
DTSTAMP:20260421T104618
DTSTART:20160630T015500
DTEND:20160630T015800
SUMMARY:Netauktion objekt 2643-056 Auktionspåminnelse
DESCRIPTION:Länk till objektet du var intresserad av: https://staging.netauktion.se/auktion/produkt/prydnadsforemal-i-bokhylla-2
END:VEVENT
END:VCALENDAR
