BEGIN:VCALENDAR
VERSION:2.0
PRODID:-//NetAuktion//NONSGML NetAuktion//SV
METHOD:PUBLISH
BEGIN:VEVENT
UID:20260421T103238-1801226300-netauktion.se
DTSTAMP:20260421T103238
DTSTART:20160630T015900
DTEND:20160630T020200
SUMMARY:Netauktion objekt 2643-060 Auktionspåminnelse
DESCRIPTION:Länk till objektet du var intresserad av: https://staging.netauktion.se/auktion/produkt/taklampa-195060-tal
END:VEVENT
END:VCALENDAR
