BEGIN:VCALENDAR
VERSION:2.0
PRODID:-//NetAuktion//NONSGML NetAuktion//SV
METHOD:PUBLISH
BEGIN:VEVENT
UID:20260421T104622-328763065-netauktion.se
DTSTAMP:20260421T104622
DTSTART:20160630T022000
DTEND:20160630T022300
SUMMARY:Netauktion objekt 2643-078 Auktionspåminnelse
DESCRIPTION:Länk till objektet du var intresserad av: https://staging.netauktion.se/auktion/produkt/sackakarra-hacksagar-lovkarra
END:VEVENT
END:VCALENDAR
