BEGIN:VCALENDAR
VERSION:2.0
PRODID:-//NetAuktion//NONSGML NetAuktion//SV
METHOD:PUBLISH
BEGIN:VEVENT
UID:20260421T104601-229536053-netauktion.se
DTSTAMP:20260421T104601
DTSTART:20160630T024900
DTEND:20160630T025200
SUMMARY:Netauktion objekt 2643-080 Auktionspåminnelse
DESCRIPTION:Länk till objektet du var intresserad av: https://staging.netauktion.se/auktion/produkt/dacia-duster-eje568-14
END:VEVENT
END:VCALENDAR
