BEGIN:VCALENDAR
VERSION:2.0
PRODID:-//NetAuktion//NONSGML NetAuktion//SV
METHOD:PUBLISH
BEGIN:VEVENT
UID:20260421T104632-2059526038-netauktion.se
DTSTAMP:20260421T104632
DTSTART:20160630T022000
DTEND:20160630T022300
SUMMARY:Netauktion objekt 2643-082 Auktionspåminnelse
DESCRIPTION:Länk till objektet du var intresserad av: https://staging.netauktion.se/auktion/produkt/4st-guldringar-i-18-k-ca-15-gram
END:VEVENT
END:VCALENDAR
