BEGIN:VCALENDAR
VERSION:2.0
PRODID:-//NetAuktion//NONSGML NetAuktion//SV
METHOD:PUBLISH
BEGIN:VEVENT
UID:20260421T103137-210211417-netauktion.se
DTSTAMP:20260421T103137
DTSTART:20160630T022300
DTEND:20160630T022600
SUMMARY:Netauktion objekt 2643-085 Auktionspåminnelse
DESCRIPTION:Länk till objektet du var intresserad av: https://staging.netauktion.se/auktion/produkt/klackring-i-troligen-14-k-guld
END:VEVENT
END:VCALENDAR
