BEGIN:VCALENDAR
VERSION:2.0
PRODID:-//NetAuktion//NONSGML NetAuktion//SV
METHOD:PUBLISH
BEGIN:VEVENT
UID:20260421T104623-2139713074-netauktion.se
DTSTAMP:20260421T104623
DTSTART:20160630T022500
DTEND:20160630T022800
SUMMARY:Netauktion objekt 2643-087 Auktionspåminnelse
DESCRIPTION:Länk till objektet du var intresserad av: https://staging.netauktion.se/auktion/produkt/1-par-manschettknappar-i-14-k-guld-vikt-ca-13-gram
END:VEVENT
END:VCALENDAR
