BEGIN:VCALENDAR
VERSION:2.0
PRODID:-//NetAuktion//NONSGML NetAuktion//SV
METHOD:PUBLISH
BEGIN:VEVENT
UID:20260421T103236-1633463684-netauktion.se
DTSTAMP:20260421T103236
DTSTART:20160630T022700
DTEND:20160630T023000
SUMMARY:Netauktion objekt 2643-089 Auktionspåminnelse
DESCRIPTION:Länk till objektet du var intresserad av: https://staging.netauktion.se/auktion/produkt/1-par-orhangen-i-18-k-guld-vikt-ca-2-gram
END:VEVENT
END:VCALENDAR
