BEGIN:VCALENDAR
VERSION:2.0
PRODID:-//NetAuktion//NONSGML NetAuktion//SV
METHOD:PUBLISH
BEGIN:VEVENT
UID:20260421T103030-474075029-netauktion.se
DTSTAMP:20260421T103030
DTSTART:20160630T023200
DTEND:20160630T023500
SUMMARY:Netauktion objekt 2643-092 Auktionspåminnelse
DESCRIPTION:Länk till objektet du var intresserad av: https://staging.netauktion.se/auktion/produkt/herrarmbandsur-facit-och-fickur-prisma
END:VEVENT
END:VCALENDAR
