BEGIN:VCALENDAR
VERSION:2.0
PRODID:-//NetAuktion//NONSGML NetAuktion//SV
METHOD:PUBLISH
BEGIN:VEVENT
UID:20260421T104618-1401109966-netauktion.se
DTSTAMP:20260421T104618
DTSTART:20161031T145700
DTEND:20161031T150000
SUMMARY:Netauktion objekt 2643-094 Auktionspåminnelse
DESCRIPTION:Länk till objektet du var intresserad av: https://staging.netauktion.se/auktion/produkt/parlcollier-med-silverlas
END:VEVENT
END:VCALENDAR
