BEGIN:VCALENDAR
VERSION:2.0
PRODID:-//NetAuktion//NONSGML NetAuktion//SV
METHOD:PUBLISH
BEGIN:VEVENT
UID:20260421T104559-1967242317-netauktion.se
DTSTAMP:20260421T104559
DTSTART:20160630T023400
DTEND:20160630T023700
SUMMARY:Netauktion objekt 2643-096 Auktionspåminnelse
DESCRIPTION:Länk till objektet du var intresserad av: https://staging.netauktion.se/auktion/produkt/armband-i-14-k-guld-vikt-ca-15-gram
END:VEVENT
END:VCALENDAR
