BEGIN:VCALENDAR
VERSION:2.0
PRODID:-//NetAuktion//NONSGML NetAuktion//SV
METHOD:PUBLISH
BEGIN:VEVENT
UID:20260421T103136-491962676-netauktion.se
DTSTAMP:20260421T103136
DTSTART:20160630T023500
DTEND:20160630T023800
SUMMARY:Netauktion objekt 2643-097 Auktionspåminnelse
DESCRIPTION:Länk till objektet du var intresserad av: https://staging.netauktion.se/auktion/produkt/id-bricka-i-18-k-guld-ca-1-gram
END:VEVENT
END:VCALENDAR
