BEGIN:VCALENDAR
VERSION:2.0
PRODID:-//NetAuktion//NONSGML NetAuktion//SV
METHOD:PUBLISH
BEGIN:VEVENT
UID:20260421T104529-1965278020-netauktion.se
DTSTAMP:20260421T104529
DTSTART:20160630T023600
DTEND:20160630T023900
SUMMARY:Netauktion objekt 2643-098 Auktionspåminnelse
DESCRIPTION:Länk till objektet du var intresserad av: https://staging.netauktion.se/auktion/produkt/diverse-smycken-och-lador
END:VEVENT
END:VCALENDAR
