BEGIN:VCALENDAR
VERSION:2.0
PRODID:-//NetAuktion//NONSGML NetAuktion//SV
METHOD:PUBLISH
BEGIN:VEVENT
UID:20260421T104635-2038393435-netauktion.se
DTSTAMP:20260421T104635
DTSTART:20160923T031500
DTEND:20160923T031800
SUMMARY:Netauktion objekt 2551-021 Auktionspåminnelse
DESCRIPTION:Länk till objektet du var intresserad av: https://staging.netauktion.se/auktion/produkt/tavla-host-karlek-150x75cm-4
END:VEVENT
END:VCALENDAR
