BEGIN:VCALENDAR
VERSION:2.0
PRODID:-//NetAuktion//NONSGML NetAuktion//SV
METHOD:PUBLISH
BEGIN:VEVENT
UID:20260425T134725-203646448-netauktion.se
DTSTAMP:20260425T134725
DTSTART:20160719T022700
DTEND:20160719T023000
SUMMARY:Netauktion objekt 2641-003 Auktionspåminnelse
DESCRIPTION:Länk till objektet du var intresserad av: https://staging.netauktion.se/auktion/produkt/mc-stovlar-suezia-racing-strl-41-3-2
END:VEVENT
END:VCALENDAR
