BEGIN:VCALENDAR
VERSION:2.0
PRODID:-//NetAuktion//NONSGML NetAuktion//SV
METHOD:PUBLISH
BEGIN:VEVENT
UID:20260425T123056-533730024-netauktion.se
DTSTAMP:20260425T123056
DTSTART:20160719T021200
DTEND:20160719T021500
SUMMARY:Netauktion objekt 2641-005 Auktionspåminnelse
DESCRIPTION:Länk till objektet du var intresserad av: https://staging.netauktion.se/auktion/produkt/mc-stovlar-suezia-racing-strl-41-3-4
END:VEVENT
END:VCALENDAR
