BEGIN:VCALENDAR
VERSION:2.0
PRODID:-//NetAuktion//NONSGML NetAuktion//SV
METHOD:PUBLISH
BEGIN:VEVENT
UID:20260425T135428-1688996045-netauktion.se
DTSTAMP:20260425T135428
DTSTART:20160719T021800
DTEND:20160719T022100
SUMMARY:Netauktion objekt 2641-006 Auktionspåminnelse
DESCRIPTION:Länk till objektet du var intresserad av: https://staging.netauktion.se/auktion/produkt/mc-stovlar-suezia-racing-strl-41-3-5
END:VEVENT
END:VCALENDAR
