BEGIN:VCALENDAR
VERSION:2.0
PRODID:-//NetAuktion//NONSGML NetAuktion//SV
METHOD:PUBLISH
BEGIN:VEVENT
UID:20260425T134725-1210990512-netauktion.se
DTSTAMP:20260425T134725
DTSTART:20160719T024300
DTEND:20160719T024600
SUMMARY:Netauktion objekt 2641-009 Auktionspåminnelse
DESCRIPTION:Länk till objektet du var intresserad av: https://staging.netauktion.se/auktion/produkt/mc-stovlar-suezia-touring-strl-42
END:VEVENT
END:VCALENDAR
