BEGIN:VCALENDAR
VERSION:2.0
PRODID:-//NetAuktion//NONSGML NetAuktion//SV
METHOD:PUBLISH
BEGIN:VEVENT
UID:20260425T123056-1387383123-netauktion.se
DTSTAMP:20260425T123056
DTSTART:20160719T021600
DTEND:20160719T021900
SUMMARY:Netauktion objekt 2641-017 Auktionspåminnelse
DESCRIPTION:Länk till objektet du var intresserad av: https://staging.netauktion.se/auktion/produkt/mc-stovlar-suezia-racing-strl-42-13-2
END:VEVENT
END:VCALENDAR
