BEGIN:VCALENDAR
VERSION:2.0
PRODID:-//NetAuktion//NONSGML NetAuktion//SV
METHOD:PUBLISH
BEGIN:VEVENT
UID:20260425T135428-1403444155-netauktion.se
DTSTAMP:20260425T135428
DTSTART:20160719T023200
DTEND:20160719T023500
SUMMARY:Netauktion objekt 2641-018 Auktionspåminnelse
DESCRIPTION:Länk till objektet du var intresserad av: https://staging.netauktion.se/auktion/produkt/mc-stovlar-suezia-racing-strl-42-13-3
END:VEVENT
END:VCALENDAR
