BEGIN:VCALENDAR
VERSION:2.0
PRODID:-//NetAuktion//NONSGML NetAuktion//SV
METHOD:PUBLISH
BEGIN:VEVENT
UID:20260425T123120-1882420751-netauktion.se
DTSTAMP:20260425T123120
DTSTART:20160719T015800
DTEND:20160719T020100
SUMMARY:Netauktion objekt 2641-019 Auktionspåminnelse
DESCRIPTION:Länk till objektet du var intresserad av: https://staging.netauktion.se/auktion/produkt/mc-stovlar-suezia-racing-strl-42-13-4
END:VEVENT
END:VCALENDAR
