BEGIN:VCALENDAR
VERSION:2.0
PRODID:-//NetAuktion//NONSGML NetAuktion//SV
METHOD:PUBLISH
BEGIN:VEVENT
UID:20260425T123104-886829657-netauktion.se
DTSTAMP:20260425T123104
DTSTART:20160719T022800
DTEND:20160719T023100
SUMMARY:Netauktion objekt 2641-031 Auktionspåminnelse
DESCRIPTION:Länk till objektet du var intresserad av: https://staging.netauktion.se/auktion/produkt/mc-stovlar-suezia-racing-strl-43-10
END:VEVENT
END:VCALENDAR
